BEGIN:VCALENDAR
VERSION:2.0
PRODID:-//Loko Comedy Club - ECPv6.15.20//NONSGML v1.0//EN
CALSCALE:GREGORIAN
METHOD:PUBLISH
X-WR-CALNAME:Loko Comedy Club
X-ORIGINAL-URL:https://www.leloko.fr
X-WR-CALDESC:Évènements pour Loko Comedy Club
REFRESH-INTERVAL;VALUE=DURATION:PT1H
X-Robots-Tag:noindex
X-PUBLISHED-TTL:PT1H
BEGIN:VTIMEZONE
TZID:UTC
BEGIN:STANDARD
TZOFFSETFROM:+0000
TZOFFSETTO:+0000
TZNAME:UTC
DTSTART:20250101T000000
END:STANDARD
END:VTIMEZONE
BEGIN:VEVENT
DTSTART;TZID=UTC:20260421T190000
DTEND;TZID=UTC:20260421T230000
DTSTAMP:20260421T090702
CREATED:20260309T151440Z
LAST-MODIFIED:20260418T100458Z
UID:10000696-1776798000-1776812400@www.leloko.fr
SUMMARY:LOKO COMEDY CLUB
DESCRIPTION:19h : Ouverture des portesInstallez-vous confortablement\, prenez un verre\, grignotez un morceau… ambiance détendue avant le show. \n20h : Début du spectacle (merci d’être à l’heure !)Le bar et le service de finger foods restent ouverts pendant toute la représentation. \n21h15 : Fin du spectacleMais la soirée ne s’arrête pas là ! Restez pour profiter du lieu\, boire un dernier verre ou commander à manger. \n\n\n 
URL:https://www.leloko.fr/event/loko-comedy-club-21-04/
LOCATION:Le LOKO\, 3 rue du marché\, Lille\, 59000\, France
ATTACH;FMTTYPE=image/webp:https://www.leloko.fr/wp-content/uploads/2026/01/LokoComedyClub.webp
END:VEVENT
BEGIN:VEVENT
DTSTART;TZID=UTC:20260422T190000
DTEND;TZID=UTC:20260422T230000
DTSTAMP:20260421T090702
CREATED:20260309T151508Z
LAST-MODIFIED:20260420T112133Z
UID:10000697-1776884400-1776898800@www.leloko.fr
SUMMARY:LOKO COMEDY CLUB
DESCRIPTION:19h : Ouverture des portesInstallez-vous confortablement\, prenez un verre\, grignotez un morceau… ambiance détendue avant le show. \n20h : Début du spectacle (merci d’être à l’heure !)Le bar et le service de finger foods restent ouverts pendant toute la représentation. \n21h15 : Fin du spectacleMais la soirée ne s’arrête pas là ! Restez pour profiter du lieu\, boire un dernier verre ou commander à manger. \n\n\n 
URL:https://www.leloko.fr/event/loko-comedy-club-22-04/
LOCATION:Le LOKO\, 3 rue du marché\, Lille\, 59000\, France
ATTACH;FMTTYPE=image/webp:https://www.leloko.fr/wp-content/uploads/2026/01/LokoComedyClub.webp
END:VEVENT
BEGIN:VEVENT
DTSTART;TZID=UTC:20260423T190000
DTEND;TZID=UTC:20260423T230000
DTSTAMP:20260421T090702
CREATED:20260309T151538Z
LAST-MODIFIED:20260420T112140Z
UID:10000698-1776970800-1776985200@www.leloko.fr
SUMMARY:LOKO COMEDY CLUB
DESCRIPTION:19h : Ouverture des portesInstallez-vous confortablement\, prenez un verre\, grignotez un morceau… ambiance détendue avant le show. \n20h : Début du spectacle (merci d’être à l’heure !)Le bar et le service de finger foods restent ouverts pendant toute la représentation. \n21h15 : Fin du spectacleMais la soirée ne s’arrête pas là ! Restez pour profiter du lieu\, boire un dernier verre ou commander à manger. \n\n\n 
URL:https://www.leloko.fr/event/loko-comedy-club-23-04/
LOCATION:Le LOKO\, 3 rue du marché\, Lille\, 59000\, France
ATTACH;FMTTYPE=image/webp:https://www.leloko.fr/wp-content/uploads/2026/01/LokoComedyClub.webp
END:VEVENT
BEGIN:VEVENT
DTSTART;TZID=UTC:20260424T190000
DTEND;TZID=UTC:20260424T230000
DTSTAMP:20260421T090702
CREATED:20260309T152028Z
LAST-MODIFIED:20260420T224127Z
UID:10000699-1777057200-1777071600@www.leloko.fr
SUMMARY:LOKO COMEDY CLUB
DESCRIPTION:19h : Ouverture des portesInstallez-vous confortablement\, prenez un verre\, grignotez un morceau… ambiance détendue avant le show. \n20h : Début du spectacle (merci d’être à l’heure !)Le bar et le service de finger foods restent ouverts pendant toute la représentation. \n21h15 : Fin du spectacleMais la soirée ne s’arrête pas là ! Restez pour profiter du lieu\, boire un dernier verre ou commander à manger. \n\n\n 
URL:https://www.leloko.fr/event/loko-comedy-club-24-04/
LOCATION:Le LOKO\, 3 rue du marché\, Lille\, 59000\, France
ATTACH;FMTTYPE=image/webp:https://www.leloko.fr/wp-content/uploads/2026/01/LokoComedyClub.webp
END:VEVENT
BEGIN:VEVENT
DTSTART;TZID=UTC:20260425T173000
DTEND;TZID=UTC:20260425T193000
DTSTAMP:20260421T090702
CREATED:20260309T152052Z
LAST-MODIFIED:20260326T103325Z
UID:10000700-1777138200-1777145400@www.leloko.fr
SUMMARY:18H - COMEDY CLUB Week-End
DESCRIPTION:17h20 : Ouverture des portesInstallez-vous confortablement\, prenez un verre\, grignotez un morceau… ambiance détendue avant le show. \n18h : Début du spectacle (merci d’être à l’heure !)Le bar et le service de finger foods restent ouverts pendant toute la représentation. \n19h15 : Fin du spectacle
URL:https://www.leloko.fr/event/18h-comedy-club-week-end-9/
LOCATION:Le LOKO\, 3 rue du marché\, Lille\, 59000\, France
ATTACH;FMTTYPE=image/webp:https://www.leloko.fr/wp-content/uploads/2026/01/LokoWeekEnd-18h.webp
END:VEVENT
BEGIN:VEVENT
DTSTART;TZID=UTC:20260425T193000
DTEND;TZID=UTC:20260425T213000
DTSTAMP:20260421T090702
CREATED:20260309T152111Z
LAST-MODIFIED:20260420T112316Z
UID:10000701-1777145400-1777152600@www.leloko.fr
SUMMARY:20H - COMEDY CLUB Week-End
DESCRIPTION:19h40 : Ouverture des portesInstallez-vous confortablement\, prenez un verre\, grignotez un morceau… ambiance détendue avant le show. \n20h : Début du spectacle (merci d’être à l’heure !)Le bar et le service de finger foods restent ouverts pendant toute la représentation. \n21h15 : Fin du spectacle
URL:https://www.leloko.fr/event/20h-comedy-club-week-end-9/
LOCATION:Le LOKO\, 3 rue du marché\, Lille\, 59000\, France
ATTACH;FMTTYPE=image/webp:https://www.leloko.fr/wp-content/uploads/2026/01/LokoWeekEnd-20h.webp
END:VEVENT
BEGIN:VEVENT
DTSTART;TZID=UTC:20260425T213000
DTEND;TZID=UTC:20260425T233000
DTSTAMP:20260421T090702
CREATED:20260309T152134Z
LAST-MODIFIED:20260420T224212Z
UID:10000702-1777152600-1777159800@www.leloko.fr
SUMMARY:22H - COMEDY CLUB Week-End
DESCRIPTION:21h40 : Ouverture des portes \nInstallez-vous confortablement\, prenez un verre\, grignotez un morceau… ambiance détendue avant le show. \n22h : Début du spectacle (merci d’être à l’heure !)Le bar et le service de finger foods restent ouverts pendant toute la représentation. \n23h15 : Fin du spectacleMais la soirée ne s’arrête pas là ! Restez pour profiter du lieu\, boire un dernier verre ou commander à manger.
URL:https://www.leloko.fr/event/22h-comedy-club-week-end-10/
LOCATION:Le LOKO\, 3 rue du marché\, Lille\, 59000\, France
ATTACH;FMTTYPE=image/webp:https://www.leloko.fr/wp-content/uploads/2026/01/LokoWeekEnd-22h.webp
END:VEVENT
BEGIN:VEVENT
DTSTART;TZID=UTC:20260428T190000
DTEND;TZID=UTC:20260428T230000
DTSTAMP:20260421T090702
CREATED:20260326T105052Z
LAST-MODIFIED:20260420T112652Z
UID:10000703-1777402800-1777417200@www.leloko.fr
SUMMARY:LOKO COMEDY CLUB
DESCRIPTION:19h : Ouverture des portesInstallez-vous confortablement\, prenez un verre\, grignotez un morceau… ambiance détendue avant le show. \n20h : Début du spectacle (merci d’être à l’heure !)Le bar et le service de finger foods restent ouverts pendant toute la représentation. \n21h15 : Fin du spectacleMais la soirée ne s’arrête pas là ! Restez pour profiter du lieu\, boire un dernier verre ou commander à manger. \n\n\n 
URL:https://www.leloko.fr/event/loko-comedy-club-28-04/
LOCATION:Le LOKO\, 3 rue du marché\, Lille\, 59000\, France
ATTACH;FMTTYPE=image/webp:https://www.leloko.fr/wp-content/uploads/2026/01/LokoComedyClub.webp
END:VEVENT
BEGIN:VEVENT
DTSTART;TZID=UTC:20260429T190000
DTEND;TZID=UTC:20260429T230000
DTSTAMP:20260421T090702
CREATED:20260326T105114Z
LAST-MODIFIED:20260420T112759Z
UID:10000704-1777489200-1777503600@www.leloko.fr
SUMMARY:LOKO COMEDY CLUB
DESCRIPTION:19h : Ouverture des portesInstallez-vous confortablement\, prenez un verre\, grignotez un morceau… ambiance détendue avant le show. \n20h : Début du spectacle (merci d’être à l’heure !)Le bar et le service de finger foods restent ouverts pendant toute la représentation. \n21h15 : Fin du spectacleMais la soirée ne s’arrête pas là ! Restez pour profiter du lieu\, boire un dernier verre ou commander à manger. \n\n\n 
URL:https://www.leloko.fr/event/loko-comedy-club-29-04/
LOCATION:Le LOKO\, 3 rue du marché\, Lille\, 59000\, France
ATTACH;FMTTYPE=image/webp:https://www.leloko.fr/wp-content/uploads/2026/01/LokoComedyClub.webp
END:VEVENT
BEGIN:VEVENT
DTSTART;TZID=UTC:20260430T190000
DTEND;TZID=UTC:20260430T230000
DTSTAMP:20260421T090702
CREATED:20260326T105203Z
LAST-MODIFIED:20260420T112831Z
UID:10000705-1777575600-1777590000@www.leloko.fr
SUMMARY:LOKO COMEDY CLUB
DESCRIPTION:19h : Ouverture des portesInstallez-vous confortablement\, prenez un verre\, grignotez un morceau… ambiance détendue avant le show. \n20h : Début du spectacle (merci d’être à l’heure !)Le bar et le service de finger foods restent ouverts pendant toute la représentation. \n21h15 : Fin du spectacleMais la soirée ne s’arrête pas là ! Restez pour profiter du lieu\, boire un dernier verre ou commander à manger. \n\n\n 
URL:https://www.leloko.fr/event/loko-comedy-club-30-04/
LOCATION:Le LOKO\, 3 rue du marché\, Lille\, 59000\, France
ATTACH;FMTTYPE=image/webp:https://www.leloko.fr/wp-content/uploads/2026/01/LokoComedyClub.webp
END:VEVENT
BEGIN:VEVENT
DTSTART;TZID=UTC:20260501T190000
DTEND;TZID=UTC:20260501T230000
DTSTAMP:20260421T090702
CREATED:20260326T105417Z
LAST-MODIFIED:20260420T112939Z
UID:10000706-1777662000-1777676400@www.leloko.fr
SUMMARY:LOKO COMEDY CLUB
DESCRIPTION:19h : Ouverture des portesInstallez-vous confortablement\, prenez un verre\, grignotez un morceau… ambiance détendue avant le show. \n20h : Début du spectacle (merci d’être à l’heure !)Le bar et le service de finger foods restent ouverts pendant toute la représentation. \n21h15 : Fin du spectacleMais la soirée ne s’arrête pas là ! Restez pour profiter du lieu\, boire un dernier verre ou commander à manger. \n\n\n 
URL:https://www.leloko.fr/event/loko-comedy-club-01-05/
LOCATION:Le LOKO\, 3 rue du marché\, Lille\, 59000\, France
ATTACH;FMTTYPE=image/webp:https://www.leloko.fr/wp-content/uploads/2026/01/LokoComedyClub.webp
END:VEVENT
BEGIN:VEVENT
DTSTART;TZID=UTC:20260502T173000
DTEND;TZID=UTC:20260502T193000
DTSTAMP:20260421T090702
CREATED:20260326T105645Z
LAST-MODIFIED:20260326T105645Z
UID:10000707-1777743000-1777750200@www.leloko.fr
SUMMARY:18H - COMEDY CLUB Week-End
DESCRIPTION:17h20 : Ouverture des portesInstallez-vous confortablement\, prenez un verre\, grignotez un morceau… ambiance détendue avant le show. \n18h : Début du spectacle (merci d’être à l’heure !)Le bar et le service de finger foods restent ouverts pendant toute la représentation. \n19h15 : Fin du spectacle
URL:https://www.leloko.fr/event/18h-comedy-club-week-end-10/
LOCATION:Le LOKO\, 3 rue du marché\, Lille\, 59000\, France
ATTACH;FMTTYPE=image/webp:https://www.leloko.fr/wp-content/uploads/2026/01/LokoWeekEnd-18h.webp
END:VEVENT
BEGIN:VEVENT
DTSTART;TZID=UTC:20260502T193000
DTEND;TZID=UTC:20260502T213000
DTSTAMP:20260421T090702
CREATED:20260326T105706Z
LAST-MODIFIED:20260420T113003Z
UID:10000708-1777750200-1777757400@www.leloko.fr
SUMMARY:20H - COMEDY CLUB Week-End
DESCRIPTION:19h40 : Ouverture des portesInstallez-vous confortablement\, prenez un verre\, grignotez un morceau… ambiance détendue avant le show. \n20h : Début du spectacle (merci d’être à l’heure !)Le bar et le service de finger foods restent ouverts pendant toute la représentation. \n21h15 : Fin du spectacle
URL:https://www.leloko.fr/event/20h-comedy-club-week-end-10/
LOCATION:Le LOKO\, 3 rue du marché\, Lille\, 59000\, France
ATTACH;FMTTYPE=image/webp:https://www.leloko.fr/wp-content/uploads/2026/01/LokoWeekEnd-20h.webp
END:VEVENT
BEGIN:VEVENT
DTSTART;TZID=UTC:20260502T213000
DTEND;TZID=UTC:20260502T233000
DTSTAMP:20260421T090702
CREATED:20260326T105814Z
LAST-MODIFIED:20260420T113028Z
UID:10000709-1777757400-1777764600@www.leloko.fr
SUMMARY:22H - COMEDY CLUB Week-End
DESCRIPTION:21h40 : Ouverture des portesInstallez-vous confortablement\, prenez un verre\, grignotez un morceau… ambiance détendue avant le show. \n22h : Début du spectacle (merci d’être à l’heure !)Le bar et le service de finger foods restent ouverts pendant toute la représentation. \n23h15 : Fin du spectacleMais la soirée ne s’arrête pas là ! Restez pour profiter du lieu\, boire un dernier verre ou commander à manger.
URL:https://www.leloko.fr/event/22h-comedy-club-week-end-11/
LOCATION:Le LOKO\, 3 rue du marché\, Lille\, 59000\, France
ATTACH;FMTTYPE=image/webp:https://www.leloko.fr/wp-content/uploads/2026/01/LokoWeekEnd-22h.webp
END:VEVENT
BEGIN:VEVENT
DTSTART;TZID=UTC:20260503T180000
DTEND;TZID=UTC:20260503T203000
DTSTAMP:20260421T090702
CREATED:20260420T114738Z
LAST-MODIFIED:20260420T114738Z
UID:10000726-1777831200-1777840200@www.leloko.fr
SUMMARY:19H - COMEDY CLUB Week-End
DESCRIPTION:18h : Ouverture des portesInstallez-vous confortablement\, prenez un verre\, grignotez un morceau… ambiance détendue avant le show. \n19h : Début du spectacle (merci d’être à l’heure !)Le bar et le service de finger foods restent ouverts pendant toute la représentation. \n20h15 : Fin du spectacle
URL:https://www.leloko.fr/event/19h-comedy-club-week-end/
LOCATION:Le LOKO\, 3 rue du marché\, Lille\, 59000\, France
ATTACH;FMTTYPE=image/webp:https://www.leloko.fr/wp-content/uploads/2026/04/LokoWeekEnd-19h.webp
END:VEVENT
BEGIN:VEVENT
DTSTART;TZID=UTC:20260505T190000
DTEND;TZID=UTC:20260505T230000
DTSTAMP:20260421T090702
CREATED:20260326T110644Z
LAST-MODIFIED:20260420T113134Z
UID:10000710-1778007600-1778022000@www.leloko.fr
SUMMARY:LOKO COMEDY CLUB
DESCRIPTION:19h : Ouverture des portesInstallez-vous confortablement\, prenez un verre\, grignotez un morceau… ambiance détendue avant le show. \n20h : Début du spectacle (merci d’être à l’heure !)Le bar et le service de finger foods restent ouverts pendant toute la représentation. \n21h15 : Fin du spectacleMais la soirée ne s’arrête pas là ! Restez pour profiter du lieu\, boire un dernier verre ou commander à manger. \n\n\n 
URL:https://www.leloko.fr/event/loko-comedy-club-05-05/
LOCATION:Le LOKO\, 3 rue du marché\, Lille\, 59000\, France
ATTACH;FMTTYPE=image/webp:https://www.leloko.fr/wp-content/uploads/2026/01/LokoComedyClub.webp
END:VEVENT
BEGIN:VEVENT
DTSTART;TZID=UTC:20260506T190000
DTEND;TZID=UTC:20260506T230000
DTSTAMP:20260421T090702
CREATED:20260326T110717Z
LAST-MODIFIED:20260420T113154Z
UID:10000711-1778094000-1778108400@www.leloko.fr
SUMMARY:LOKO COMEDY CLUB
DESCRIPTION:19h : Ouverture des portesInstallez-vous confortablement\, prenez un verre\, grignotez un morceau… ambiance détendue avant le show. \n20h : Début du spectacle (merci d’être à l’heure !)Le bar et le service de finger foods restent ouverts pendant toute la représentation. \n21h15 : Fin du spectacleMais la soirée ne s’arrête pas là ! Restez pour profiter du lieu\, boire un dernier verre ou commander à manger. \n\n\n 
URL:https://www.leloko.fr/event/loko-comedy-club-06-05/
LOCATION:Le LOKO\, 3 rue du marché\, Lille\, 59000\, France
ATTACH;FMTTYPE=image/webp:https://www.leloko.fr/wp-content/uploads/2026/01/LokoComedyClub.webp
END:VEVENT
BEGIN:VEVENT
DTSTART;TZID=UTC:20260507T190000
DTEND;TZID=UTC:20260507T230000
DTSTAMP:20260421T090702
CREATED:20260326T110808Z
LAST-MODIFIED:20260420T113214Z
UID:10000712-1778180400-1778194800@www.leloko.fr
SUMMARY:LOKO COMEDY CLUB
DESCRIPTION:19h : Ouverture des portesInstallez-vous confortablement\, prenez un verre\, grignotez un morceau… ambiance détendue avant le show. \n20h : Début du spectacle (merci d’être à l’heure !)Le bar et le service de finger foods restent ouverts pendant toute la représentation. \n21h15 : Fin du spectacleMais la soirée ne s’arrête pas là ! Restez pour profiter du lieu\, boire un dernier verre ou commander à manger. \n\n\n 
URL:https://www.leloko.fr/event/loko-comedy-club-07-05/
LOCATION:Le LOKO\, 3 rue du marché\, Lille\, 59000\, France
ATTACH;FMTTYPE=image/webp:https://www.leloko.fr/wp-content/uploads/2026/01/LokoComedyClub.webp
END:VEVENT
BEGIN:VEVENT
DTSTART;TZID=UTC:20260508T190000
DTEND;TZID=UTC:20260508T230000
DTSTAMP:20260421T090702
CREATED:20260326T110845Z
LAST-MODIFIED:20260420T113233Z
UID:10000713-1778266800-1778281200@www.leloko.fr
SUMMARY:LOKO COMEDY CLUB
DESCRIPTION:19h : Ouverture des portesInstallez-vous confortablement\, prenez un verre\, grignotez un morceau… ambiance détendue avant le show. \n20h : Début du spectacle (merci d’être à l’heure !)Le bar et le service de finger foods restent ouverts pendant toute la représentation. \n21h15 : Fin du spectacleMais la soirée ne s’arrête pas là ! Restez pour profiter du lieu\, boire un dernier verre ou commander à manger. \n\n\n 
URL:https://www.leloko.fr/event/loko-comedy-club-08-05/
LOCATION:Le LOKO\, 3 rue du marché\, Lille\, 59000\, France
ATTACH;FMTTYPE=image/webp:https://www.leloko.fr/wp-content/uploads/2026/01/LokoComedyClub.webp
END:VEVENT
BEGIN:VEVENT
DTSTART;TZID=UTC:20260509T173000
DTEND;TZID=UTC:20260509T193000
DTSTAMP:20260421T090702
CREATED:20260326T110914Z
LAST-MODIFIED:20260326T110914Z
UID:10000714-1778347800-1778355000@www.leloko.fr
SUMMARY:18H - COMEDY CLUB Week-End
DESCRIPTION:17h20 : Ouverture des portesInstallez-vous confortablement\, prenez un verre\, grignotez un morceau… ambiance détendue avant le show. \n18h : Début du spectacle (merci d’être à l’heure !)Le bar et le service de finger foods restent ouverts pendant toute la représentation. \n19h15 : Fin du spectacle
URL:https://www.leloko.fr/event/18h-comedy-club-week-end-11/
LOCATION:Le LOKO\, 3 rue du marché\, Lille\, 59000\, France
ATTACH;FMTTYPE=image/webp:https://www.leloko.fr/wp-content/uploads/2026/01/LokoWeekEnd-18h.webp
END:VEVENT
BEGIN:VEVENT
DTSTART;TZID=UTC:20260509T193000
DTEND;TZID=UTC:20260509T213000
DTSTAMP:20260421T090702
CREATED:20260326T110933Z
LAST-MODIFIED:20260420T113251Z
UID:10000715-1778355000-1778362200@www.leloko.fr
SUMMARY:20H - COMEDY CLUB Week-End
DESCRIPTION:19h40 : Ouverture des portesInstallez-vous confortablement\, prenez un verre\, grignotez un morceau… ambiance détendue avant le show. \n20h : Début du spectacle (merci d’être à l’heure !)Le bar et le service de finger foods restent ouverts pendant toute la représentation. \n21h15 : Fin du spectacle
URL:https://www.leloko.fr/event/20h-comedy-club-week-end-11/
LOCATION:Le LOKO\, 3 rue du marché\, Lille\, 59000\, France
ATTACH;FMTTYPE=image/webp:https://www.leloko.fr/wp-content/uploads/2026/01/LokoWeekEnd-20h.webp
END:VEVENT
BEGIN:VEVENT
DTSTART;TZID=UTC:20260509T213000
DTEND;TZID=UTC:20260509T233000
DTSTAMP:20260421T090702
CREATED:20260326T111016Z
LAST-MODIFIED:20260326T111016Z
UID:10000716-1778362200-1778369400@www.leloko.fr
SUMMARY:22H - COMEDY CLUB Week-End
DESCRIPTION:21h40 : Ouverture des portesInstallez-vous confortablement\, prenez un verre\, grignotez un morceau… ambiance détendue avant le show. \n22h : Début du spectacle (merci d’être à l’heure !)Le bar et le service de finger foods restent ouverts pendant toute la représentation. \n23h15 : Fin du spectacleMais la soirée ne s’arrête pas là ! Restez pour profiter du lieu\, boire un dernier verre ou commander à manger.
URL:https://www.leloko.fr/event/22h-comedy-club-week-end-12/
LOCATION:Le LOKO\, 3 rue du marché\, Lille\, 59000\, France
ATTACH;FMTTYPE=image/webp:https://www.leloko.fr/wp-content/uploads/2026/01/LokoWeekEnd-22h.webp
END:VEVENT
BEGIN:VEVENT
DTSTART;TZID=UTC:20260510T180000
DTEND;TZID=UTC:20260510T203000
DTSTAMP:20260421T090702
CREATED:20260420T114036Z
LAST-MODIFIED:20260420T114659Z
UID:10000727-1778436000-1778445000@www.leloko.fr
SUMMARY:19H - COMEDY CLUB Week-End
DESCRIPTION:18h : Ouverture des portesInstallez-vous confortablement\, prenez un verre\, grignotez un morceau… ambiance détendue avant le show. \n19h : Début du spectacle (merci d’être à l’heure !)Le bar et le service de finger foods restent ouverts pendant toute la représentation. \n20h15 : Fin du spectacle
URL:https://www.leloko.fr/event/19h-loko-comedy-club-week-end/
LOCATION:Le LOKO\, 3 rue du marché\, Lille\, 59000\, France
ATTACH;FMTTYPE=image/webp:https://www.leloko.fr/wp-content/uploads/2026/04/LokoWeekEnd-19h.webp
END:VEVENT
BEGIN:VEVENT
DTSTART;TZID=UTC:20260512T190000
DTEND;TZID=UTC:20260512T230000
DTSTAMP:20260421T090702
CREATED:20260326T111253Z
LAST-MODIFIED:20260420T113434Z
UID:10000717-1778612400-1778626800@www.leloko.fr
SUMMARY:LOKO COMEDY CLUB
DESCRIPTION:19h : Ouverture des portesInstallez-vous confortablement\, prenez un verre\, grignotez un morceau… ambiance détendue avant le show. \n20h : Début du spectacle (merci d’être à l’heure !)Le bar et le service de finger foods restent ouverts pendant toute la représentation. \n21h15 : Fin du spectacleMais la soirée ne s’arrête pas là ! Restez pour profiter du lieu\, boire un dernier verre ou commander à manger. \n\n\n 
URL:https://www.leloko.fr/event/loko-comedy-club-12-05/
LOCATION:Le LOKO\, 3 rue du marché\, Lille\, 59000\, France
ATTACH;FMTTYPE=image/webp:https://www.leloko.fr/wp-content/uploads/2026/01/LokoComedyClub.webp
END:VEVENT
BEGIN:VEVENT
DTSTART;TZID=UTC:20260513T190000
DTEND;TZID=UTC:20260513T230000
DTSTAMP:20260421T090702
CREATED:20260326T111318Z
LAST-MODIFIED:20260420T113426Z
UID:10000718-1778698800-1778713200@www.leloko.fr
SUMMARY:LOKO COMEDY CLUB
DESCRIPTION:19h : Ouverture des portesInstallez-vous confortablement\, prenez un verre\, grignotez un morceau… ambiance détendue avant le show. \n20h : Début du spectacle (merci d’être à l’heure !)Le bar et le service de finger foods restent ouverts pendant toute la représentation. \n21h15 : Fin du spectacleMais la soirée ne s’arrête pas là ! Restez pour profiter du lieu\, boire un dernier verre ou commander à manger. \n\n\n 
URL:https://www.leloko.fr/event/loko-comedy-club-13-05/
LOCATION:Le LOKO\, 3 rue du marché\, Lille\, 59000\, France
ATTACH;FMTTYPE=image/webp:https://www.leloko.fr/wp-content/uploads/2026/01/LokoComedyClub.webp
END:VEVENT
BEGIN:VEVENT
DTSTART;TZID=UTC:20260514T190000
DTEND;TZID=UTC:20260514T230000
DTSTAMP:20260421T090702
CREATED:20260326T111342Z
LAST-MODIFIED:20260420T113420Z
UID:10000719-1778785200-1778799600@www.leloko.fr
SUMMARY:LOKO COMEDY CLUB
DESCRIPTION:19h : Ouverture des portesInstallez-vous confortablement\, prenez un verre\, grignotez un morceau… ambiance détendue avant le show. \n20h : Début du spectacle (merci d’être à l’heure !)Le bar et le service de finger foods restent ouverts pendant toute la représentation. \n21h15 : Fin du spectacleMais la soirée ne s’arrête pas là ! Restez pour profiter du lieu\, boire un dernier verre ou commander à manger. \n\n\n 
URL:https://www.leloko.fr/event/loko-comedy-club-14-05/
LOCATION:Le LOKO\, 3 rue du marché\, Lille\, 59000\, France
ATTACH;FMTTYPE=image/webp:https://www.leloko.fr/wp-content/uploads/2026/01/LokoComedyClub.webp
END:VEVENT
BEGIN:VEVENT
DTSTART;TZID=UTC:20260515T190000
DTEND;TZID=UTC:20260515T230000
DTSTAMP:20260421T090702
CREATED:20260326T111404Z
LAST-MODIFIED:20260420T113412Z
UID:10000720-1778871600-1778886000@www.leloko.fr
SUMMARY:LOKO COMEDY CLUB
DESCRIPTION:19h : Ouverture des portesInstallez-vous confortablement\, prenez un verre\, grignotez un morceau… ambiance détendue avant le show. \n20h : Début du spectacle (merci d’être à l’heure !)Le bar et le service de finger foods restent ouverts pendant toute la représentation. \n21h15 : Fin du spectacleMais la soirée ne s’arrête pas là ! Restez pour profiter du lieu\, boire un dernier verre ou commander à manger. \n\n\n 
URL:https://www.leloko.fr/event/loko-comedy-club-15-05/
LOCATION:Le LOKO\, 3 rue du marché\, Lille\, 59000\, France
ATTACH;FMTTYPE=image/webp:https://www.leloko.fr/wp-content/uploads/2026/01/LokoComedyClub.webp
END:VEVENT
BEGIN:VEVENT
DTSTART;TZID=UTC:20260516T173000
DTEND;TZID=UTC:20260516T193000
DTSTAMP:20260421T090702
CREATED:20260326T111422Z
LAST-MODIFIED:20260326T111422Z
UID:10000721-1778952600-1778959800@www.leloko.fr
SUMMARY:18H - COMEDY CLUB Week-End
DESCRIPTION:17h20 : Ouverture des portesInstallez-vous confortablement\, prenez un verre\, grignotez un morceau… ambiance détendue avant le show. \n18h : Début du spectacle (merci d’être à l’heure !)Le bar et le service de finger foods restent ouverts pendant toute la représentation. \n19h15 : Fin du spectacle
URL:https://www.leloko.fr/event/18h-comedy-club-week-end-12/
LOCATION:Le LOKO\, 3 rue du marché\, Lille\, 59000\, France
ATTACH;FMTTYPE=image/webp:https://www.leloko.fr/wp-content/uploads/2026/01/LokoWeekEnd-18h.webp
END:VEVENT
BEGIN:VEVENT
DTSTART;TZID=UTC:20260516T193000
DTEND;TZID=UTC:20260516T213000
DTSTAMP:20260421T090702
CREATED:20260326T111440Z
LAST-MODIFIED:20260420T113352Z
UID:10000722-1778959800-1778967000@www.leloko.fr
SUMMARY:20H - COMEDY CLUB Week-End
DESCRIPTION:19h40 : Ouverture des portesInstallez-vous confortablement\, prenez un verre\, grignotez un morceau… ambiance détendue avant le show. \n20h : Début du spectacle (merci d’être à l’heure !)Le bar et le service de finger foods restent ouverts pendant toute la représentation. \n21h15 : Fin du spectacle
URL:https://www.leloko.fr/event/20h-comedy-club-week-end-12/
LOCATION:Le LOKO\, 3 rue du marché\, Lille\, 59000\, France
ATTACH;FMTTYPE=image/webp:https://www.leloko.fr/wp-content/uploads/2026/01/LokoWeekEnd-20h.webp
END:VEVENT
BEGIN:VEVENT
DTSTART;TZID=UTC:20260516T213000
DTEND;TZID=UTC:20260516T233000
DTSTAMP:20260421T090702
CREATED:20260326T111503Z
LAST-MODIFIED:20260420T113351Z
UID:10000723-1778967000-1778974200@www.leloko.fr
SUMMARY:22H - COMEDY CLUB Week-End
DESCRIPTION:21h40 : Ouverture des portesInstallez-vous confortablement\, prenez un verre\, grignotez un morceau… ambiance détendue avant le show. \n22h : Début du spectacle (merci d’être à l’heure !)Le bar et le service de finger foods restent ouverts pendant toute la représentation. \n23h15 : Fin du spectacleMais la soirée ne s’arrête pas là ! Restez pour profiter du lieu\, boire un dernier verre ou commander à manger.
URL:https://www.leloko.fr/event/22h-comedy-club-week-end-13/
LOCATION:Le LOKO\, 3 rue du marché\, Lille\, 59000\, France
ATTACH;FMTTYPE=image/webp:https://www.leloko.fr/wp-content/uploads/2026/01/LokoWeekEnd-22h.webp
END:VEVENT
END:VCALENDAR